Workbook
Name _2Excel_BuiltIn_Print_Area_1_1: #REF!
Name _3Excel_BuiltIn_Print_Area_11_1: #REF!
Name _4Excel_BuiltIn_Print_Area_12_1: #REF!
Name _5Excel_BuiltIn_Print_Area_13_1: #REF!
Name ABBAU: Referenz!$A$22
Name ABBAU_FREITAG: Referenz!$A$23
Name Abfrage_von_Bäcker_3_4: #REF!
Name Abfrage_von_Bäcker_4: #REF!
Name Abfrage_von_Einkauf_3: #REF!
Name Abfrage_von_EXCEL_JUGEND_Einkauf_1_3: #REF!
Name Abfrage_von_EXCEL_JUGEND_Einkauf_2_3: #REF!
Name Abfrage_von_EXCEL_JUGEND_Einkauf_3: #REF!
Name Abfrage_von_Gefro_13: #REF!
Name Abfrage_von_Großhandel_11: #REF!
Name Abfrage_von_Kurier_9: #REF!
Name Abfrage_von_Lebensmittel_6: #REF!
Name Abfrage_von_Memmingen_10: #REF!
Name Abfrage_von_Metzger_1_10: #REF!
Name Abfrage_von_Metzger_1_11: #REF!
Name Abfrage_von_Metzger_1_5: #REF!
Name Abfrage_von_Metzger_1_6: #REF!
Name Abfrage_von_Metzger_1_7: #REF!
Name Abfrage_von_Metzger_1_8: #REF!
Name Abfrage_von_Metzger_1_9: #REF!
Name Abfrage_von_Metzger_5: #REF!
Name Abfrage_von_Milch_8: #REF!
Name Abfrage_von_Rapunzel_14: #REF!
Name AUFBAU: Referenz!$A$17
Name AUFBAU_DATUM: Referenz!$D$11
Name ELTERNSONNTAG: Referenz!$A$19
Name Excel_BuiltIn__FilterDatabase_1: #REF!
Name Excel_BuiltIn_Print_Area_10: #REF!
Name Excel_BuiltIn_Print_Area_10_1: #REF!
Name ExterneDaten_1_4: #REF!
Name ExterneDaten_1_5: #REF!
Name FLEISCHLOS: Referenz!$A$16
Name FLEISCHLOS_2: Referenz!$A$21
Name TEILNEHMER: Referenz!$A$15
Name TEILNEHMER_2: Referenz!$A$20
Name WOCHENENDE: Referenz!$A$18

Sheet Referenz
A1: In dieser Tabelle sind die Referenzwerte abgelegt mit denen gearbeitet wird.
A2: Die Titel in den Kopfzeilen werden durch den Dateinamen sowie der Benenung
A3: der Tabellen beeinflusst. In den einzelnen Tabellen sind Abfragen enthalten,
A4: die über Microsoft Query bearbeitet werden können. Die Abfragen sind im
A5: Verzeichnis 'Excel Abfragen' hinterlegt. Um damit arbeiten zu können, müssen die
A6: Abfragen in das Office-Systemverzeichnis kopiert werden.
A8: Wolfgang Anders | C8: heute: | D8: =TODAY() -> 42565
A10: Lagerort:
A11: Zeltlager 2016 Sassenweiler | C11: Aufbausamstag: | D11: 42581
A13: Multiplikatoren:
A15: 290 | B15: Teilnehmer
A16: 60 | B16: davon mit fleischreduzierter Kost
A17: 100 | B17: Aufbau
A18: 320 | B18: Wochenende
A19: 900 | B19: Elternsonntag
A20: 250 | B20: Teilnehmer zweite Woche
A21: 50 | B21: davon mit fleischreduzierter Kost 2
A22: 50 | B22: Abbau
A23: 45 | B23: Abbau Freitag
A25: Kontaktdaten für Bestellungen:
A27: Email: | B27: woanders@web.de
A28: Fax: | B28: 03212 - 9626337 (web.de-Online-Fax)
A29: Telefon: | B29: 0157-50 75 30 46
A31: Kennziffern für Einkauf:
A32: -1 = | B32: Leerzeile
A33: 0 = | B33: Datum und Leerzeile
A34: 1 = | B34: Bäcker
A35: 2 = | B35: Metzger
A36: 3 = | B36: Lebensmittel
A37: 4 = | B37: Milch
A38: 5 = | B38: Molkerei
A39: 6 = | B39: Käse
A40: 9 = | B40: Sonstiges
A41: 10 = | B41: Memmingen allg.
A42: 16 = | B42: Großhandel
A43: 17 = | B43: Gefro
... A62: 201 = | B62: Bemerkung Text

Sheet Speiseplan
A1: Datum | B1: Frühstück | C1: Mittag | D1: Abend
A2: Samstag | B2: =Kalkulation!C4 -> Aufbau-Brotzeit | C2: =Kalkulation!C13 -> Aufbau-Brotzeit | D2: =Kalkulation!C20 -> Schweinehalssteak auf Kässpatzen an buntem Salat
A3: =AUFBAU_DATUM -> 42581
A5: Sonntag | B5: Tägliches | C5: =Kalkulation!C46 -> Leberkässemmeln, Weißwurstsenf, Gurken, Käse | D5: =Kalkulation!C53 -> Schnitzel, Bratlinge, Kartoffelsalat, Gurkensalat
A6: =AUFBAU_DATUM+1 -> 42582 | B6: Standardfrühstück
A8: Montag | B8: Tee - Kakao - Milch - Kaffee | C8: =Kalkulation!C77 -> Spagetti mit Tomatensoße Salat | D8: =Kalkulation!C92 -> Brotzeit, Vanille-Pudding
A9: =AUFBAU_DATUM+2 -> 42583 | B9: Müsli - Obst - Wurst - Käse
B10: Brot - Butter - Marmelade
A11: Dienstag | C11: =Kalkulation!C117 -> Schaschlikpfanne, Reis, Salat | D11: =Kalkulation!C130 -> Brotzeit mit Frischkäseaufstrich
A12: =AUFBAU_DATUM+3 -> 42584
A14: Mittwoch | C14: =Kalkulation!C151 -> Wanderbrotzeit | D14: =Kalkulation!C161 -> Fleischküchle oder Bratlinge, Kartoffelsalat, Bohnensalat und Schokopudding
A15: =AUFBAU_DATUM+4 -> 42585 | B15: =Kalkulation!C142 -> Standard
A17: Donnerstag | C17: =Kalkulation!C192 -> Brätknödelsuppe, Semmelschmarren, Apfelmus | D17: =Kalkulation!C208 -> Wurstsalat, Brot, Frischkäseaufstrich
A18: =AUFBAU_DATUM+5 -> 42586
A20: Freitag | C20: =Kalkulation!C233 -> Schweinebraten, Knödel, Blaukraut | D20: =Kalkulation!C246 -> Brotzeit, Frischkäseaufstrich
A21: =AUFBAU_DATUM+6 -> 42587
A23: Samstag | C23: =Kalkulation!C276 -> Hirtenmakkaroni, Tomatensalat | D23: =Kalkulation!C288 -> Griechischer Salat mit Pitabrot, Tzatziki & Falaffel
A24: =AUFBAU_DATUM+7 -> 42588 | B24: =Kalkulation!C260 -> Semmeln, Eier, Nutella
A26: Elternsonntag | C26: =Kalkulation!C319 -> Deftiger Eintopf mit oder ohne ohne Fleisch, Semmel, Pfirsichquark | D26: =Kalkulation!C346 -> Brotzeit
A27: =AUFBAU_DATUM+8 -> 42589
A29: Montag | C29: =Kalkulation!C370 -> Räuberteller Semmel mit Krautsalat | D29: =Kalkulation!C387 -> Brotzeit, Nudelsalat mit und ohne Wurst
A30: =AUFBAU_DATUM+9 -> 42590
A32: Dienstag | C32: =Kalkulation!C416 -> Wanderbrotzeit | D32: =Kalkulation!C426 -> Schnitzel, Grillkäse, Kartoffelsalat, Gurkensalat
A33: =AUFBAU_DATUM+10 -> 42591
A35: Mittwoch | C35: =Kalkulation!C451 -> Tortellini ala Chef, Eissalat | D35: =Kalkulation!C462 -> Brotzeit, Milchreis
A36: =AUFBAU_DATUM+11 -> 42592 | B36: =Kalkulation!C440 -> Semmeln
A38: Donnerstag | C38: =Kalkulation!C485 -> Wiener im Semmel mit Zugabe | D38: =Kalkulation!C491 -> Schwenkbraten, Bratkartoffeln, Tomatensalat
A39: =AUFBAU_DATUM+12 -> 42593
A42: TEE und FRUCHTGETRÄNKE stehen jeden Tag in ausreichender Menge zur Verfügung !

Sheet Kalkulation
A1: DATUM | B1: ZEIT | C1: PLAN | D1: MENGE | E1: EINHEIT | F1: POSTEN | G1: PERSON | H1: EINHEIT | I1: KENNUNG | J1: TAG | K1: BEDARF
A2: =AUFBAU_DATUM -> 42581 | C2: Samstag (Aufbau) | I2: 0 | J2: 1
I3: 95 | J3: 1
B4: Brotzeit: | C4: Aufbau-Brotzeit | I4: 96 | J4: 1
I5: -1 | J5: 1
D6: =AUFBAU*G6 -> 45 | E6: Paar | F6: Landjäger | G6: 0.45 | H6: Paar | I6: 102 | J6: 1
D7: =AUFBAU*G7 -> 120 | E7: Paar | F7: Wiener | G7: 1.2 | H7: Paar | I7: 102 | J7: 1
D8: =AUFBAU/1000*G8 -> 5 | E8: kg | F8: Käse | G8: 50 | H8: g | I8: 9 | J8: 1
D9: =AUFBAU*G9 -> 220 | E9: Stck. | F9: Semmeln | G9: 2.2 | H9: Stck. | I9: 101 | J9: 1
D10: =AUFBAU*G10 -> 110 | E10: Stck. | F10: Brezen | G10: 1.1 | H10: Stck. | I10: 101 | J10: 1
D11: 1 | E11: Karton | F11: Butter (Anfangsbedarf) | G11: 1 | H11: Karton | I11: 9 | J11: 1
I12: -1 | J12: 1
B13: Mittag: | C13: Aufbau-Brotzeit | I13: 97 | J13: 1
I14: -1 | J14: 1
D15: =AUFBAU/1000*G15 -> 5 | E15: kg | F15: Wurst (Salami, Kochsalami) geschnitten | G15: 50 | H15: g | I15: 102 | J15: 1
D16: =AUFBAU/1000*G16 -> 5 | E16: kg | F16: Käse | G16: 50 | H16: g | I16: 9 | J16: 1
D17: =AUFBAU/1000*G17 -> 10 | E17: kg | F17: Brot | G17: 100 | H17: g | I17: 1 | J17: 1
D18: =AUFBAU*G18 -> 1 | E18: Dosen | F18: Essiggurken 100/110 | G18: 0.01 | H18: Dose | I18: 16 | J18: 1
I19: -1 | J19: 1
B20: Abend: | C20: Schweinehalssteak auf Kässpatzen an buntem Salat | I20: 98 | J20: 1
D22: =AUFBAU*G22 -> 120 | E22: Stck. | F22: Schweinehalssteaks ungewürzt (á 180g) | G22: 1.2 | H22: Stck. | I22: 2 | J22: 1
D23: =AUFBAU*G23/1000 -> 12 | E23: kg | F23: Spätzle | G23: 120 | H23: g | I23: 16 | J23: 1
D24: =AUFBAU*G24/1000 -> 7 | E24: kg | F24: Bergkäse (gerieben) | G24: 70 | H24: g | I24: 9 | J24: 1
D25: =AUFBAU*G25/1000 -> 2 | E25: kg | F25: Limburger | G25: 20 | H25: g | I25: 16 | J25: 1
D26: =AUFBAU*G26/1000 -> 2 | E26: kg | F26: Röstzwiebeln | G26: 20 | H26: g | I26: 16 | J26: 1
D27: =AUFBAU*G27 -> 10 | E27: Kopf | F27: grüner Salat | G27: 0.1 | H27: Kopf | I27: 3 | J27: 1
D28: =AUFBAU*G28 -> 10 | E28: Kopf | F28: Lolo Rosso | G28: 0.1 | H28: Kopf | I28: 3 | J28: 1
D29: =AUFBAU*G29/1000 -> 5 | E29: kg | F29: Brot | G29: 50 | H29: g | I29: 1 | J29: 1
I30: 99 | J30: 1
B31: Bemerkung: | I31: 200 | J31: 1
I32: -1 | J32: 1
A33: DATUM | B33: ZEIT | C33: PLAN | D33: MENGE | E33: EINHEIT | F33: POSTEN | G33: PERSON | H33: EINHEIT | I33: KENNUNG | J33: TAG | K33: BEDARF
A34: =AUFBAU_DATUM+1 -> 42582 | C34: Sonntag (Aufbau) | I34: 0 | J34: 2
I35: 95 | J35: 2
B36: Frühstück: | C36: Standard | I36: 96 | J36: 2
I37: -1 | J37: 2
D38: =AUFBAU*G38 -> 20 | E38: Liter | F38: Milch für Kakao (warm) | G38: 0.2 | H38: Liter | I38: 4 | J38: 2
D39: =AUFBAU*G39 -> 10 | E39: Liter | F39: Milch für Müsli (kalt) | G39: 0.1 | H39: Liter | I39: 4 | J39: 2
D40: =AUFBAU*G40/1000 -> 3 | E40: kg | F40: Müsli | G40: 30 | H40: g | I40: 108 | J40: 2
D41: =AUFBAU*G41/1000 -> 15 | E41: kg | F41: Obst gem. (Äpfel,Bananen,Birnen,Nektarinen usw.) | G41: 150 | H41: g | I41: 3 | J41: 1 | K41: 2
D42: =AUFBAU*G42/1000 -> 2 | E42: kg | F42: Marmelade | G42: 20 | H42: g | I42: 16 | J42: 2
D43: =AUFBAU*G43/1000 -> 2 | E43: kg | F43: Wurst 2-3 Sorten geschnitten (auch Salami) | G43: 20 | H43: g | I43: 102 | J43: 1 | K43: 2
D44: =AUFBAU*G44/1000 -> 8 | E44: kg | F44: Brot | G44: 80 | H44: g | I44: 1 | J44: 1 | K44: 2
I45: 95 | J45: 2
B46: Mittag: | C46: Leberkässemmeln, Weißwurstsenf, Gurken, Käse | I46: 96 | J46: 2
I47: -1 | J47: 2
D48: =AUFBAU*G48/1000 -> 20 | E48: kg | F48: Leberkäse warm | G48: 200 | H48: g | I48: 2 | J48: 2 | K48: 2
D49: 5 | E49: kg | F49: süßer Senf | I49: 16 | J49: 2
D50: =AUFBAU*G50 -> 160 | E50: Stck. | F50: Semmeln | G50: 1.6 | H50: Stck. | I50: 1 | J50: 2
D51: =AUFBAU/1000*G51 -> 5 | E51: kg | F51: Käse | G51: 50 | H51: g | I51: 9 | J51: 2
I52: -1 | J52: 2
B53: Abend: | C53: Schnitzel, Bratlinge, Kartoffelsalat, Gurkensalat | I53: 97 | J53: 2
I54: -1 | J54: 2
D55: =AUFBAU*G55 -> 130 | E55: Stck. | F55: Schweineschnitzel (maximal 2cm stark ca. 160g) | G55: 1.3 | H55: Stck. | I55: 2 | J55: 2 | K55: 2
D56: 10 | E56: Portionen | F56: Bratlinge | G56: 1 | H56: Portionen | I56: 17 | J56: 1 | K56: 2
D57: =AUFBAU*G57/1000 -> 30 | E57: kg | F57: Kartoffeln | G57: 300 | H57: g | I57: 111 | J57: 2
D58: =AUFBAU*G58 -> 12 | E58: Stck. | F58: Metzgerzwiebeln gestückelt mitbraten | G58: 0.12 | H58: Stck. | I58: 16 | J58: 2
D59: =AUFBAU*G59/1000 -> 3.5 | E59: kg | F59: Laimer Panat (Fertigmischung) | G59: 35 | H59: g | I59: 16 | J59: 2
D60: =AUFBAU*G60 -> 26 | E60: Stck. | F60: Salatgurken | G60: 0.26 | H60: Stck. | I60: 16 | J60: 2
I61: 99 | J61: 2
B62: Bemerkung: | I62: 200 | J62: 2
I63: -1 | J63: 2
A64: DATUM | B64: ZEIT | C64: PLAN | D64: MENGE | E64: EINHEIT | F64: POSTEN | G64: PERSON | H64: EINHEIT | I64: KENNUNG | J64: TAG | K64: BEDARF
A65: =AUFBAU_DATUM+2 -> 42583 | C65: Montag | I65: 0 | J65: 3
I66: 95 | J66: 3
B67: Frühstück: | C67: Standard | I67: 96 | J67: 3
I68: -1 | J68: 3
D69: =AUFBAU*G69 -> 18.5 | E69: Liter | F69: Milch für Kakao (warm) | G69: 0.185 | H69: Liter | I69: 4 | J69: 3
D70: =AUFBAU*G70 -> 7.5 | E70: Liter | F70: Milch für Müsli (kalt) | G70: 0.075 | H70: Liter | I70: 4 | J70: 3
D71: =AUFBAU/1000*G71 -> 1.85 | E71: kg | F71: Müsli | G71: 18.5 | H71: g | I71: 108 | J71: 3
D72: =TEILNEHMER/1000*G72 -> 21.46 | E72: kg | F72: Obst gem. (Äpfel,Bananen,Birnen,Nektarinen usw.) | G72: 74 | H72: g | I72: 3 | J72: 1 | K72: 3
D73: =AUFBAU/1000*G73 -> 1.85 | E73: kg | F73: Marmelade | G73: 18.5 | H73: g | I73: 16 | J73: 3
D74: =AUFBAU/1000*G74 -> 1.475 | E74: kg | F74: Wurst 2-3 Sorten geschnitten (auch Salami) | G74: 14.75 | H74: g | I74: 102 | J74: 1 | K74: 3
D75: =AUFBAU/1000*G75 -> 4.8 | E75: kg | F75: Brot | G75: 48 | H75: g | I75: 1 | J75: 1 | K75: 3
I76: -1 | J76: 3
B77: Mittag: | C77: Spagetti mit Tomatensoße Salat | I77: 97 | J77: 3
I78: -1 | J78: 3
D79: =(TEILNEHMER-FLEISCHLOS)/1000*G79 -> 16.1 | E79: kg | F79: Hackfleisch | G79: 70 | H79: g | I79: 2 | J79: 3
D80: =TEILNEHMER/1000*G80 -> 29 | E80: kg | F80: enthäutete Tomatenstücke | G80: 100 | H80: g | I80: 16 | J80: 3
D81: =TEILNEHMER/1000*G81 -> 7.25 | E81: kg | F81: Tomatenmark doppelt konzentriert | G81: 25 | H81: g | I81: 16 | J81: 3
D82: =TEILNEHMER*G82 -> 14.5 | E82: Stck. | F82: Metzgerzwiebeln gewürfelt | G82: 0.05 | H82: Stck. | I82: 16 | J82: 3
D83: =TEILNEHMER*G83 -> 1.595 | E83: Glas | F83: Wela Bratensaft | G83: 0.0055 | H83: Glas | I83: 105 | J83: 3
D84: =TEILNEHMER*G84 -> 1.0875 | E84: Dosen | F84: Gefrowürze Bella Italia | G84: 0.00375 | H84: Dosen | I84: 17 | J84: 3
D85: =TEILNEHMER*G85 -> 1.595 | E85: Dosen | F85: Gefro Soße zu Braten | G85: 0.0055 | H85: Dosen | I85: 17 | J85: 3
D86: =TEILNEHMER*G86 -> 580 | E86: g | F86: Spaghettigewürz, | G86: 2 | H86: g | I86: 106 | J86: 3
D87: =TEILNEHMER/1000*G87 -> 31.9 | E87: kg | F87: Spaghetti | G87: 110 | H87: g | I87: 16 | J87: 3
D88: =TEILNEHMER/1000*G88 -> 8.555 | E88: kg | F88: geriebener Emmentaler | G88: 29.5 | H88: g | I88: 16 | J88: 3
D89: =TEILNEHMER*G89 -> 47.85 | E89: Stck. | F89: Eissalat | G89: 0.165 | H89: Stck. | I89: 3 | J89: 3
D90: =TEILNEHMER*G90 -> 290 | E90: g | F90: Italienische Kräuter | G90: 1 | H90: g | I90: 106 | J90: 3
I91: -1 | J91: 3
B92: Abend: | C92: Brotzeit, Vanille-Pudding | I92: 98 | J92: 3
I93: -1 | J93: 3
D94: =TEILNEHMER/1000*G94 -> 13.92 | E94: kg | F94: Brot | G94: 48 | H94: g | I94: 1 | J94: 3
D95: =TEILNEHMER/1000*G95 -> 4.2775 | E95: kg | F95: Wurst 2-3 Sorten geschnitten (auch Salami) | G95: 14.75 | H95: g | I95: 2 | J95: 3
D96: =TEILNEHMER/1000*G96 -> 8.7 | E96: kg | F96: Gurken,Kohlrabi, rote und gelbe Paprika, Karotten | G96: 30 | H96: g | I96: 3 | J96: 3
D97: =TEILNEHMER/1000*G97 -> 4.263 | E97: kg | F97: Vanille-Pudding | G97: 14.7 | H97: g | I97: 16 | J97: 3
D98: =D97*13 -> 55.419 | E98: Liter | F98: Milch für Pudding (warm) | I98: 4 | J98: 3
D99: 4 | E99: Liter | F99: Himbeer-Sirup | I99: 16 | J99: 3
I100: 99 | J100: 3
B101: Bemerkung: | I101: 200 | J101: 3
...

Sheet Memmingen
A2: Bäcker: | E2: Oli
A3: Mayer | B3: 200 | C3: Stück | D3: Semmeln
B4: 100 | C4: Stück | D4: Brezen
A6: Metzger: | E6: Oli
A7: Greiff | B7: 60 | C7: Paar | D7: Landjäger
A8: Greiff | B8: 8 | C8: kg | D8: Wurst
A9: Greiff | B9: 150 | C9: Paar | D9: Wiener
A11: Aldi: | E11: Oli
A12: Spülschwämme | B12: 30 | C12: Stück
A13: Schwammtücher | B13: 60 | C13: Pack
A14: Ako-Pads | B14: 5 | C14: Pack
A19: Vierlande: | B19: Kundennummer: 801992 | D19: Tel: 954313 | E19: Ronzo
B20: Bestellt von Ronzo | D20: 11.7. | E20: erledigt
A23: 12 | B23: Flaschen | C23: 266715 Spezialsauce für Hamburger in 875ml-TUBE
A25: 4 | B25: Flaschen | C25: 850075 DESSERTSAUCE HIMBEER 1 KG
A28: Wela: | B28: Kundennummer: 908766 | E28: Ronzo
B29: 12 | C29: Gläser | D29: Bratensaft | E29: erledigt
B30: Telefonisch unter 09263 94 24 21 bestellt am 11.7.
A32: Öchsle MM'Berg: | E32: Ronzo
B33: 0 | C33: kg | D33: Spätzle
A35: Goldmännchen: | E35: Geli
B37: 0 | C37: Karton | D37: Getränkepulver (kein Zitronentee) | E37: erledigt
A39: Weber Gewürze: | E39: Ronzo
C40: (siehe Tabellenblatt Herzel)
A42: Naturkost Kling: | E42: Ronzo
A43: bestellt am : | B43: 11.7. | C43: (Faxbestellung siehe Tabellenblatt Rapunzel) | E43: erledigt
A45: Gefro: | E45: Ronzo
A46: bestellt am : | B46: 41753 | C46: (Faxbestellung siehe Tabellenblatt Gefro)
A48: Kaffee | E48: Geli
B49: 17 | C49: kg | D49: Feine Milde
A52: Buzil: | E52: Markus
B53: 10 | C53: Liter | D53: Geschirrspülmittel Buzil G530 | E53: erledigt
A55: Großmarkt C+C Oberschwaben in Sonthofen | E55: Ronzo / Erhard
C56: (siehe Tabellenblatt Großhandel)
A58: ACT | E58: Geli
B59: 0 | C59: Pck. | D59: Latexhandschuhe für Latrienendienst
B60: Wird im Lager geklärt und notfalls in MM besorgt. | E60: erledigt
A61: Tupperware | E61: Alle
C62: Dosen | D62: für Frischwurst
A64: Kartoffel Steinhauser
B66: 200 | C66: kg | D66: große Kartoffel (für Salat)
B67: per email auf 28.7. bestellt | E67: erledigt
B68: info@kartoffelhof-steinhauser.de

Sheet Großhandel
A1: Konserven | H1: DATUM | I1: MENGE | J1: EINHEIT | K1: POSTEN | L1: KENNUNG | M1: TAG | N1: BEDARF
I2: 0.8 | J2: Dose | K2: Apfelmus für Blaukraut | L2: 16 | M2: 7
A3: Menge | B3: Einheit | C3: Artikel | D3: Bedarf | E3: Bestand | F3: Rest | I3: 8 | J3: Dosen | K3: Apfelmus | L3: 16 | M3: 5
I4: 7.2 | J4: Dosen | K4: Blaukraut | L4: 16 | M4: 7
A5: =SUM(D5-E5) -> 30 | B5: 3 / 1 | C5: Pfirsich | D5: 30 | I5: 9 | J5: Dosen | K5: Bohnen fein | L5: 16 | M5: 9
A6: =SUM(D6-E6) -> 2 | B6: 3 / 1 | C6: Mais | D6: 2 | I6: 4 | J6: Dosen | K6: Brechbohnen | L6: 16 | M6: 2
A7: =SUM(D7-E7) -> 46 | B7: 5 / 1 | C7: Erbsen und Karotten | D7: 46 | I7: 15 | J7: Dosen | K7: Erbsen fein | L7: 16 | M7: 9
A8: =SUM(D8-E8) -> 14 | B8: 5 / 1 | C8: Bohnen fein | D8: 14 | I8: 0.8 | J8: Dosen | K8: Mais | L8: 16 | M8: 10
A9: =SUM(D9-E9) -> 17 | B9: 5 / 1 | C9: Brechbohnen | D9: 17 | I9: 17.5 | J9: Dosen | K9: Pfirsiche | L9: 16 | M9: 9
A10: =SUM(D10-E10) -> 10 | B10: 5 / 1 | C10: Blaukraut | D10: 10 | I10: 3 | J10: Dosen | K10: Sauerkraut | L10: 16 | M10: 11
A11: =SUM(D11-E11) -> 13 | B11: 5 / 1 | C11: Apfelmus | D11: 13 | I11: 3 | J11: Gläser | K11: Essiggurken | L11: 16 | M11: 7
A12: =SUM(D12-E12) -> 36 | B12: kg | C12: Tomatenstücke | D12: 36 | I12: 4 | J12: Liter | K12: Himbeer-Sirup | L12: 16 | M12: 3
A13: =SUM(D13-E13) -> 2 | B13: 5 / 1 | C13: Tomatenmark | D13: 2 | I13: 360 | J13: Port. | K13: Kartoffelbrei ( Pfanni ) | L13: 16 | M13: 11
A14: =SUM(D14-E14) -> 12 | B14: 10 / 1 | C14: Essiggurken 100/110 | D14: 12 | I14: 400 | J14: Stück | K14: Knödelpulver (Pfanni) | L14: 16 | M14: 7
A15: =SUM(D15-E15) -> 3 | B15: 10 / 1 | C15: Sauerkraut | D15: 3 | I15: 0 | J15: kg | K15: Ananas | L15: 16 | M15: 3
A16: =SUM(D16-E16) -> 30 | B16: 800 ml | C16: Ketchup (Kunststofflaschen) | D16: 30 | I16: 8 | J16: kg | K16: Gabel - Spaghetti | L16: 16 | M16: 10
A17: =SUM(D17-E17) -> 15 | B17: 800 ml | C17: Senf mittelscharf (Kunststofflaschen) | D17: 15 | I17: 6 | J17: kg | K17: Gabelspagetti | L17: 16 | M17: 1
A18: =SUM(D18-E18) -> 15 | B18: kg | C18: Miracel Whip (leicht) | D18: 15
A19: =SUM(D19-E19) -> 22 | B19: 3 kg | C19: Marmelade rot (Erdbeer, Himbeer, Sauerkirsch) | D19: 22
A20: =SUM(D20-E20) -> 2 | B20: 3 kg | C20: Marmelade (Aprikose,...) | D20: 2 | I20: 2 | J20: kg | K20: Marmelade | L20: 16 | M20: 2
A21: =SUM(D21-E21) -> 250 | B21: Dosen | C21: Wurst für Wanderungen (Leberwurst fein / grob) | D21: 250 | I21: 4 | J21: kg | K21: Marmelade | L21: 16 | M21: 11
I22: 4 | J22: kg | K22: Marmelade | L22: 16 | M22: 4
A23: Lebensmittel | I23: 4 | J23: kg | K23: Marmelade | L23: 16 | M23: 7
I24: 4 | J24: kg | K24: Marmelade | L24: 16 | M24: 6
A25: Einkauf | B25: Einheit | C25: Artikel | D25: Bedarf | E25: Bestand | F25: Rest | I25: 4 | J25: kg | K25: Marmelade | L25: 16 | M25: 12
I26: 4 | J26: kg | K26: Marmelade | L26: 16 | M26: 5
A27: =IF(SUM(D27-E27)<0,0,SUM(D27-E27)) -> 30 | B27: kg | C27: Zucker | D27: 30 | I27: 4 | J27: kg | K27: Marmelade | L27: 16 | M27: 3
A28: =IF(SUM(D28-E28)<0,0,SUM(D28-E28)) -> 4 | B28: kg | C28: Vanilinzucker | D28: 4 | I28: 5 | J28: kg | K28: Milchreis | L28: 16 | M28: 12
A29: =IF(SUM(D29-E29)<0,0,SUM(D29-E29)) -> 5 | B29: kg | C29: Dr. Oetker Schokopudding | D29: 5 | I29: 15 | J29: kg | K29: Reis | L29: 16 | M29: 3
A30: =IF(SUM(D30-E30)<0,0,SUM(D30-E30)) -> 4.5 | B30: kg | C30: Dr. Oetker Vanillepudding | D30: 4.5 | I30: 2.4 | J30: kg | K30: Schoko-Pudding | L30: 16 | M30: 7
A31: =IF(SUM(D31-E31)<0,0,SUM(D31-E31)) -> 30 | B31: 500g | C31: Salz | D31: 30 | I31: 20 | J31: kg | K31: Spaghetti | L31: 16 | M31: 4
A32: =IF(SUM(D32-E32)<0,0,SUM(D32-E32)) -> 9 | B32: kg | C32: Backerbsen Laimer | D32: 9 | I32: 30 | J32: kg | K32: Tortellini | L32: 16 | M32: 12
A33: =IF(SUM(D33-E33)<0,0,SUM(D33-E33)) -> 8 | B33: kg | C33: Milchreis | D33: 8 | I33: 2.4 | J33: kg | K33: Vanille-Pudding | L33: 16 | M33: 3
A34: =IF(SUM(D34-E34)<0,0,SUM(D34-E34)) -> 24 | B34: kg | C34: Parboiled Reis | D34: 24
A35: =IF(SUM(D35-E35)<0,0,SUM(D35-E35)) -> 180 | B35: Port. | C35: Kartoffelbrei Pfanni (für Wasser+Milch-Zugabe) | D35: 180
A36: =IF(SUM(D36-E36)<0,0,SUM(D36-E36)) -> 4.5 | B36: Pck. | C36: Kartoffelknödel Pfanni (halb und halb a`5 kg =194 Knödel) | D36: 4.5
A37: =IF(SUM(D37-E37)<0,0,SUM(D37-E37)) -> 2.5 | B37: kg | C37: Rosinen | D37: 2.5
A38: =IF(SUM(D38-E38)<0,0,SUM(D38-E38)) -> 2 | B38: Pck. | C38: Pfefferminztee | D38: 2
A39: =IF(SUM(D39-E39)<0,0,SUM(D39-E39)) -> 1 | B39: Pck. | C39: Kamillentee | D39: 1
A40: =IF(SUM(D40-E40)<0,0,SUM(D40-E40)) -> 1 | B40: Pck. | C40: Fencheltee | D40: 1
A41: =IF(SUM(D41-E41)<0,0,SUM(D41-E41)) -> 3 | B41: Pck. | C41: Schwarztee | D41: 3
A42: =IF(SUM(D42-E42)<0,0,SUM(D42-E42)) -> 2 | B42: Pck. | C42: Roibos-Tee | D42: 2
A43: =IF(SUM(D43-E43)<0,0,SUM(D43-E43)) -> 20 | B43: Pck. | C43: Zitronentee | D43: 20
A44: =IF(SUM(D44-E44)<0,0,SUM(D44-E44)) -> 7 | B44: kg | C44: Kakao | D44: 7
A45: =IF(SUM(D45-E45)<0,0,SUM(D45-E45)) -> 24 | B45: kg | C45: Kabapulver | D45: 24
... A64: =IF(SUM(D64-E64)<0,0,SUM(D64-E64)) -> 10 | B64: kg | C64: Butterschmalz | D64: 10
A66: Süßwaren
A68: Einkauf | B68: Einheit | C68: Artikel | D68: Bedarf | E68: Bestand | F68: Rest
A70: =IF(SUM(D70-E70)<0,0,SUM(D70-E70)) -> 20 | B70: Tafeln | C70: Milka-Schokolade 100g Vollmilch | D70: 20
A71: =IF(SUM(D71-E71)<0,0,SUM(D71-E71)) -> 3 | B71: Dosen | C71: Haribo Zoo | D71: 3
A72: =IF(SUM(D72-E72)<0,0,SUM(D72-E72)) -> 3 | B72: Dosen | C72: Haribo Kinderschnuller | D72: 3
A73: =IF(SUM(D73-E73)<0,0,SUM(D73-E73)) -> 2 | B73: Dosen | C73: Haribo Erdbeeren | D73: 2
A74: =IF(SUM(D74-E74)<0,0,SUM(D74-E74)) -> 3 | B74: Dosen | C74: Haribo Colaflaschen | D74: 3
A75: =IF(SUM(D75-E75)<0,0,SUM(D75-E75)) -> 2 | B75: Dosen | C75: Haribo Schlümpfe | D75: 2
A76: =IF(SUM(D76-E76)<0,0,SUM(D76-E76)) -> 1 | B76: Dosen | C76: Wurli süße Würmer | D76: 1
A79: Haushaltswaren
A81: Einkauf | B81: Einheit | C81: Artikel | D81: Bedarf | E81: Bestand | F81: Rest
A83: =IF(SUM(D83-E83)<0,0,SUM(D83-E83)) -> 1 | B83: Pck. | C83: Waschmittel flüssig (z.b. Spee Geel 1,5l) | D83: 1
A84: =IF(SUM(D84-E84)<0,0,SUM(D84-E84)) -> 0 | B84: Pck. | C84: Tempotaschentücher | D84: 1 | E84: 1
A85: =IF(SUM(D85-E85)<0,0,SUM(D85-E85)) -> 300 | B85: Rollen | C85: Toilettenpapier (3 Lagig billige Sorte) | D85: 300
A86: =IF(SUM(D86-E86)<0,0,SUM(D86-E86)) -> 20 | B86: Rollen | C86: Küchenrolle | D86: 20
A87: =IF(SUM(D87-E87)<0,0,SUM(D87-E87)) -> 200 | B87: Stck. | C87: Mülleimerbeutel 30l | D87: 200
A88: =IF(SUM(D88-E88)<0,0,SUM(D88-E88)) -> 500 | B88: Stck. | C88: Mülleimerbeutel 20l | D88: 500
A89: =IF(SUM(D89-E89)<0,0,SUM(D89-E89)) -> 50 | B89: Stck. | C89: Müllbeutel 120l | D89: 100 | E89: 50
A90: =IF(SUM(D90-E90)<0,0,SUM(D90-E90)) -> 0 | B90: Pck. | C90: Toppits Eiswürfelbeutel | D90: 3 | E90: 7
A91: =IF(SUM(D91-E91)<0,0,SUM(D91-E91)) -> 600 | B91: Stck. | C91: Frühstücksbeutel Brotzeitbeutel 1,4l | D91: 600
A92: =IF(SUM(D92-E92)<0,0,SUM(D92-E92)) -> 2 | B92: Rollen | C92: Frischhaltefolie | D92: 5 | E92: 3
A93: =IF(SUM(D93-E93)<0,0,SUM(D93-E93)) -> 5 | B93: Rollen | C93: Alufolie | D93: 10 | E93: 5
A94: =IF(SUM(D94-E94)<0,0,SUM(D94-E94)) -> 12 | B94: Stck. | C94: Schwammtücher/Abtropfunterlage groß (40x60 cm !!!) | D94: 12
A95: =IF(SUM(D95-E95)<0,0,SUM(D95-E95)) -> 5 | B95: Pck. | C95: Glitzi Stahl - Schwämme | D95: 5
A96: =IF(SUM(D96-E96)<0,0,SUM(D96-E96)) -> 10 | B96: Stck. | C96: Spülbürsten | D96: 10
A97: =IF(SUM(D97-E97)<0,0,SUM(D97-E97)) -> 4 | B97: Pck. | C97: Fliegenfänger | D97: 4
A99: =IF(SUM(D99-E99)<0,0,SUM(D99-E99)) -> 4 | B99: Pck. | C99: Putzhandschuhe L/XL | D99: 4
A100: =IF(SUM(D100-E100)<0,0,SUM(D100-E100)) -> 2 | B100: Pck. | C100: Teelichter | D100: 2 | E100: 0
A102: gekühlte Waren
A104: Einkauf | B104: Einheit | C104: Artikel | D104: Bedarf | E104: Bestand
A106: =IF(SUM(D106-E106)<0,0,SUM(D106-E106)) -> 10 | B106: kg | C106: Tortenbrie | D106: 10
A107: =IF(SUM(D107-E107)<0,0,SUM(D107-E107)) -> 16 | B107: kg | C107: Vollei (pasteurisiert) | D107: 16
A108: =IF(SUM(D108-E108)<0,0,SUM(D108-E108)) -> 15 | B108: kg | C108: Käse gerieben | D108: 15
A109: =IF(SUM(D109-E109)<0,0,SUM(D109-E109)) -> 2 | B109: kg | C109: Limburger | D109: 2
A110: =IF(SUM(D110-E110)<0,0,SUM(D110-E110)) -> 90 | B110: kg | C110: Quark (Samstag 9.8.) | D110: 90
A111: =IF(SUM(D111-E111)<0,0,SUM(D111-E111)) -> 5 | B111: kg | C111: Naturjogurt | D111: 5
A112: =IF(SUM(D112-E112)<0,0,SUM(D112-E112)) -> 6 | B112: kg | C112: griechischer Joghurt (11.8.) | D112: 6
A113: =IF(SUM(D113-E113)<0,0,SUM(D113-E113)) -> 12 | B113: kg | C113: Quark 40% (11.8.) | D113: 12
A114: 1000 | B114: Liter | C114: Milch

Sheet Gewürze_Weber
C2: Evangelische Gemeindejugend Memmingen
B6: Bestellung Fa. Gewürze-Weber
B7: Fax: 08336-80396 | D7: Email: weber-gewuerze@t-online.de
B8: Tel: 08336-1000
B11: Menge | D11: Artikel | E11: erledigt | G11: Bedarf | H11: Bestand
B12: =IF(G12-H12>0,G12-H12,"-") -> 150 | D12: Zimt | G12: 150 | H12: 0
B13: =IF(G13-H13>0,G13-H13,"-") -> 20 | D13: Muskat | G13: 20 | H13: 0
B14: =IF(G14-H14>0,G14-H14,"-") -> 200 | D14: Petersilie | G14: 200 | H14: 0
B15: =IF(G15-H15>0,G15-H15,"-") -> 200 | D15: Schnittlauch | G15: 200 | H15: 0
B16: =IF(G16-H16>0,G16-H16,"-") -> 100 | D16: Dill | G16: 100 | H16: 0
B17: =IF(G17-H17>0,G17-H17,"-") -> 200 | D17: Ital. Kräuter | G17: 200 | H17: 0
B18: =IF(G18-H18>0,G18-H18,"-") -> 150 | D18: Knoblauchgranulat | G18: 150 | H18: 0
B19: =IF(G19-H19>0,G19-H19,"-") -> 1500 | D19: Pfeffer | G19: 1500 | H19: 0
B20: =IF(G20-H20>0,G20-H20,"-") -> 250 | D20: Paprika edelsüß | G20: 750 | H20: 500
B21: =IF(G21-H21>0,G21-H21,"-") -> - | D21: Paprika rosenscharf | G21: 250 | H21: 250
B22: =IF(G22-H22>0,G22-H22,"-") -> 250 | D22: Curry | G22: 250 | H22: 0
B23: =IF(G23-H23>0,G23-H23,"-") -> 30 | D23: Thymian | G23: 30 | H23: 0
... B34: =IF(G34-H34>0,G34-H34,"-") -> 100 | D34: Kümmel gemahlen | G34: 100 | H34: 0
A37: Zustellung der Bestellung an das Kirchengemeindeamt
A38: im Alten Gemeindehaus, Pfaffengasse 8, Memmingen
A39: bis spätestens | D39: =AUFBAU_DATUM-2 -> 42579
B42: Bitte bestätigen sie mir die Bestellung
B43: per e-Mail an: | D43: =Referenz!$B$27 -> woanders@web.de
B44: oder Fax an: | D44: =Referenz!$B$28 -> 03212 - 9626337 (web.de-Online-Fax)
B45: Rückfragen: | D45: =Referenz!$B$29 -> 0157-50 75 30 46

Sheet Gefro
C1: Faxbestellung 08331 959517 | I1: DATUM | J1: MENGE | K1: EINHEIT | L1: POSTEN | M1: KENNUNG | N1: TAG
C2: z.H. Frau Barhoum | J2: 4 | K2: kg | L2: Tomatensuppe | M2: 17 | N2: 1
J3: 12 | K3: kg | L3: Vollkorn-Spätzle | M3: 17 | N3: 6
C4: Evangelische Gemeindejugend Memmingen
C7: Vorbestellung Gefro Reform Versand
C9: Kd.Nr. 80005019 Ev. Jugendzeltlager
C10: neue Rechnungsadresse: Tagbrechtstr. 3, 87700 Memmingen
B13: Menge | D13: Artikel | I13: Bestellnr.: | J13: Menge | L13: Artikel
B15: 10 | D15: Gefro - Suppe | E15: a' 1000g | I15: 13610 | J15: 18 | L15: Gefro - Suppe | M15: a' 1000g
B17: 4 | D17: Kartoffelsuppe | E17: á 1000g
B19: 1 | D19: Bolognese | E19: á 600g
B21: 4 | D21: Tomatensoße | E21: a' 600g | I21: 10406 | J21: 18 | L21: Tomatensoße | M21: a' 600g
B23: 16 | D23: Soße zu Braten | E23: a' 600g | J23: 12 | L23: Kartoffelsuppe | M23: a' 600g
B25: 6 | D25: Helle Soße | E25: a' 600g | I25: 10206 | J25: 6 | L25: Soße zu Braten | M25: a' 600g
J26: 6 | L26: Helle Soße | M26: a' 600g
B27: 10 | D27: Reformfett | E27: a' 4 kg | J27: 6 | L27: Jägersoße | M27: a' 300g
B29: 10 | D29: Distelöl | E29: a' 0,75 l | J29: 40 | L29: Vollkorn - Bauernspätzle 500g
B31: 2 | D31: Würze „Bella Italia“ | E31: á 100g
B33: 5 | D33: Kräuterstreu | E33: á 300g
B35: 4 | D35: Fleischwürze | E35: á 300g
B37: 25 | D37: pikante Pfanne | E37: Portionen
B39: 4 | D39: Pesto verde | E39: á 150g
A41: Bitte beachten Sie, dass wir zwar gerne Waren aus dem Spendenregal nehmen,aber genau die bestellten Mengen benötigen und alles, was nicht im Regal vorrätig ist zu dem von Herrn Frommlet gewährten Rabatt von 50% bestellen.
J42: 15 | L42: Edelpilzcreme-Suppe | M42: a' 600g
A46: Bitte bestätigen sie mir die Bestellung
A47: per e-Mail an: | C47: =Referenz!$B$27 -> woanders@web.de | I47: 10505 | J47: 3 | L47: Weinessig 10 % | M47: a' 5 l | N47: nicht mehr Lieferbar!
A48: oder Fax an: | C48: =Referenz!$B$28 -> 03212 - 9626337 (web.de-Online-Fax) | I48: 16105 | J48: 3 | L48: Sesko - Tafelöl | M48: a' 5 l | N48: nicht mehr Lieferbar!
A49: Rückfragen: | C49: =Referenz!$B$29 -> 0157-50 75 30 46
A52: Die Ware wird am | D52: =AUFBAU_DATUM-1 -> 42580
A53: von unserem Zeltlagerkurier abgeholt.

Sheet Naturkost_Kling
A1: Faxbestellung (0 83 31) 98 29 81 | H1: DATUM | I1: ZEIT | J1: PLAN | K1: MENGE | L1: EINHEIT | M1: POSTEN | N1: PERSON | O1: EINHEIT | P1: KENNUNG | Q1: TAG | R1: BEDARF
A2: Telefon (0 83 31) 98 29 80 | K2: 3 | L2: kg | M2: Müsli | N2: 30 | O2: g | P2: 108 | Q2: 2
K3: 4.995 | L3: kg | M3: Müsli | N3: 18.5 | O3: g | P3: 108 | Q3: 3
C4: Evangelische Gemeindejugend Memmingen | K4: 4.995 | L4: kg | M4: Müsli | N4: 18.5 | O4: g | P4: 108 | Q4: 4
K5: 4.995 | L5: kg | M5: Müsli | N5: 18.5 | O5: g | P5: 108 | Q5: 5
K6: 4.995 | L6: kg | M6: Müsli | N6: 18.5 | O6: g | P6: 108 | Q6: 6
K7: 4.995 | L7: kg | M7: Müsli | N7: 18.5 | O7: g | P7: 108 | Q7: 7
K8: 4 | L8: kg | M8: Müsli | N8: 12.5 | O8: g | P8: 108 | Q8: 8
K9: 6 | L9: kg | M9: Müsli | N9: 18.75 | O9: g | P9: 108 | Q9: 9
B10: Bestellung Fa. Naturkost Kling Benningen | K10: 5 | L10: kg | M10: Müsli | N10: 20 | O10: g | P10: 108 | Q10: 10
K11: 5 | L11: kg | M11: Müsli | N11: 20 | O11: g | P11: 108 | Q11: 11
K12: 5 | L12: kg | M12: Müsli | N12: 20 | O12: g | P12: 108 | Q12: 12
K13: 5 | L13: kg | M13: Müsli | N13: 20 | O13: g | P13: 108 | Q13: 13
K14: 0 | L14: kg | M14: Müsli | N14: 25 | O14: g | P14: 108 | Q14: 14
A16: Artikel | B16: Menge | D16: Bezeichnung | K16: =SUM(K2:K15) -> 57.975 | L16: kg
A17: 800100 | B17: 25 | C17: kg | D17: Original Rapunzel Müsli
A18: 1200210 | B18: 4 | C18: kg | D18: Rapunzel Kräutersalz m.biol.Kräutern
A22: Bitte bestätigen sie mir die Bestellung
A23: per e-Mail an: | C23: =Referenz!$B$27 -> woanders@web.de
A24: oder Fax an: | C24: =Referenz!$B$28 -> 03212 - 9626337 (web.de-Online-Fax)
A25: Rückfragen: | C25: =Referenz!$B$29 -> 0157-50 75 30 46
B30: Abholung durch unseren Kurierfahrer am:
D32: =AUFBAU_DATUM-1 -> 42580
B36: Mit freundlichen Grüßen
B37: i. A. Wolfgang Anders

Sheet Rezepte_1
A1: DATUM | B1: ZEIT | C1: PLAN | D1: MENGE | E1: EINHEIT | F1: POSTEN | G1: PERSON | H1: EINHEIT | I1: KENNUNG | J1: TAG | K1: BEDARF
A2: Zutaten für flexible Gerichte: | F2: (Liste ist nicht vollständig) | I2: -1 | J2: 15
I3: 0 | J3: 15
C4: Tomatensuppe mit Nudeln (warmes Essen an kalten Tagen)
D5: =Referenz!$A$15*G5/1000 -> 5.8 | E5: kg | F5: Tomatensuppe | G5: 20 | H5: g | I5: 17 | J5: 15
D6: =Referenz!$A$15*G6/1000 -> 8.7 | E6: kg | F6: Gabelspagetti | G6: 30 | H6: g | I6: 16 | J6: 15
C8: Schoko-Chips (Frühstück)
D9: =Referenz!$A$15*G9/1000 -> 10.875 | E9: kg | F9: Schokochips | G9: 37.5 | H9: g | I9: 9 | J9: 15
D10: =Referenz!$A$15*G10/1000 -> 14.5 | E10: Liter | F10: Kabamilch | G10: 50 | H10: ml | I10: 4 | J10: 15
D11: =Referenz!$A$15*G11/1000 -> 14.5 | E11: Liter | F11: kalte Milch | G11: 50 | H11: ml | I11: 4 | J11: 15
C13: Gelbe Rüben-Kohlrabi-Gemüse
D14: =Referenz!$A$15*G14/1000 -> 21.75 | E14: kg | F14: gelbe Rüben | G14: =15000/200 -> 75 | H14: g | J14: 15
D15: =Referenz!$A$15*G15/1000 -> 7.25 | E15: kg | F15: Kohlrabi | G15: =5000/200 -> 25 | H15: g | J15: 15
D16: =Referenz!$A$15*G16 -> 2.9 | E16: Dosen | F16: Gefro Helle Soße | G16: 0.01 | H16: Dosen | J16: 15
B18: Mittag: | C18: Tortellini mit Schinken-Sahne-Soße, Salat | I18: 97 | J18: 12
D20: =Referenz!$A$15/1000*G20 -> 36.25 | E20: kg | F20: Tortellini | G20: 125 | H20: g | I20: 16 | J20: 12
D21: =Referenz!$A$15/1000*G21 -> 14.5 | E21: kg | F21: Vorderschinken geschnitten | G21: 50 | H21: g | I21: 2 | J21: 12
D22: =Referenz!$A$15/1000*G22 -> 14.5 | E22: Liter | F22: Süße Sahne | G22: 50 | H22: ml | I22: 9 | J22: 12
D23: =Referenz!$A$15/1000*G23 -> 8.7 | E23: Liter | F23: Milch | G23: 30 | H23: ml | I23: 5 | J23: 12
D24: =Referenz!$A$15*G24 -> 58 | E24: Kopf | F24: Salat | G24: 0.2 | H24: Kopf | I24: 3 | J24: 12
D25: =Referenz!$A$15*G25 -> 1.45 | E25: Pack | F25: Rahmsoße | G25: =1/200 -> 0.005 | H25: Pack | I25: 16 | J25: 12
D26: =Referenz!$A$15*G26 -> 5.075 | E26: Dosen | F26: Gefro helle Soße | G26: =3.5/200 -> 0.0175 | H26: Dosen | I26: 17 | J26: 12
D27: =Referenz!$A$15*G27/1000 -> 1.45 | E27: kg | F27: Mondamin hell | G27: 5 | H27: g | I27: 16 | J27: 12
C29: Fleischküchle, Kartoffelbrei und Gemüse
D30: =Referenz!$A$15*G30/1000 -> 46.4 | E30: kg | F30: Hackfleisch | G30: 160 | H30: g
D31: =Referenz!$A$15*G31/1000 -> 4.64 | E31: kg | F31: Vollei pasteurisiert | G31: 16 | H31: g
D32: =Referenz!$A$15*G32/1000 -> 9.28 | E32: kg | F32: Semmelbrösel | G32: 32 | H32: g
D33: =Referenz!$A$15*G33 -> 36.25 | F33: Semmel (geschnitten zu Knödelbrot) | G33: 0.125 | H33: Stck.
D34: =Referenz!$A$15*G34 -> 348 | E34: Port. | F34: Kartoffelbrei ( Pfanni ) | G34: 1.2 | H34: Portionen
D35: =Referenz!$A$15*G35/1000 -> 11.6 | E35: Liter | F35: Milch für Kartoffelbrei | G35: 40 | H35: ml
D36: =Referenz!$A$15*G36/1000 -> 31.03 | E36: Liter | F36: Milch+Wasser | G36: 107 | H36: ml
D38: =Referenz!$A$15*G38/1000 -> 21.75 | E38: kg | F38: gelbe Rüben | G38: =15000/200 -> 75 | H38: g
D39: =Referenz!$A$15*G39/1000 -> 7.25 | E39: kg | F39: Kohlrabi | G39: =5000/200 -> 25 | H39: g
D40: =Referenz!$A$15*G40 -> 2.9 | E40: Dosen | F40: Gefro Helle Soße | G40: 0.01 | H40: Dosen
C42: Allgäuer Brotzeit
D44: =Referenz!$A$15/1000*G44 -> 3.625 | E44: kg | F44: Leberkäs geschnitten | G44: 12.5 | H44: g
D45: =Referenz!$A$15/1000*G45 -> 3.625 | E45: kg | F45: Pressack rot geschnitten | G45: 12.5 | H45: g
D46: =Referenz!$A$15/1000*G46 -> 3.625 | E46: kg | F46: Pressack weiß geschnitten | G46: 12.5 | H46: g
D47: =Referenz!$A$15/1000*G47 -> 9.28 | E47: kg | F47: grobe Leberwurst | G47: 32 | H47: g
D48: =Referenz!$A$15*G48 -> 1.45 | E48: Dosen | F48: Essiggurken 100/110 | G48: 0.005 | H48: Dosen
D49: =Referenz!$A$15/1000*G49 -> 17.4 | E49: kg | F49: Brot | G49: 60 | H49: g
F50: Bergkäse vom Vorrat
C52: Brunch
D54: =Referenz!$A$15*G54+10 -> 56.4 | E54: Liter | F54: Milch für Kakao (warm) | G54: 0.16 | H54: Liter
D55: =Referenz!$A$15*G55+10 -> 33.2 | E55: Liter | F55: Milch für Müsli (kalt) | G55: 0.08 | H55: Liter
D56: =Referenz!$A$15/1000*G56 -> 5.8 | E56: kg | F56: Müsli | G56: 20 | H56: g
D57: =Referenz!$A$15/1000*G57 -> 23.2 | E57: kg | F57: Obst gem. (Äpfel,Bananen,Birnen,Nektarinen usw.) | G57: 80 | H57: g
D58: =Referenz!$A$15/1000*G58 -> 5.8 | E58: kg | F58: Marmelade | G58: 20 | H58: g
D59: =Referenz!$A$15/1000*G59 -> 2.9 | E59: kg | F59: Wurst 2-3 Sorten geschnitten | G59: 10 | H59: g
D60: =Referenz!$A$15*G60 -> 174 | F60: Scheiben Vorderschinken | G60: 0.6
D61: =Referenz!$A$15/1000*G61 -> 5.8 | E61: kg | F61: Brot | G61: 20 | H61: g
D62: =Referenz!$A$15/1000*G62 -> 4.35 | E62: kg | F62: Käse | G62: 15 | H62: g
D63: =Referenz!$A$15/1000*G63 -> 2.9 | E63: kg | F63: Schweinebauch geräuchert 0,5 x 0,5 cm | G63: 10 | H63: g
D64: =Referenz!$A$15/1000*G64 -> 34.8 | E64: Liter | F64: Orangensaft | G64: 120 | H64: ml
D65: =Referenz!$A$15/1000*G65 -> 10.15 | E65: kg | F65: Vollei pasteurisiert | G65: 35 | H65: g
D66: =Referenz!$A$15*G66/1000 -> 10.875 | E66: kg | F66: Schokochips | G66: 37.5 | H66: g
D67: =Referenz!$A$15*G67 -> 435 | E67: Stck. | F67: Semmeln Frühstück (bis 7.30 Uhr) | G67: 1.5 | H67: Stck.
D68: =Referenz!$A$15*G68 -> 174 | E68: Stck. | F68: Jogurt | G68: 0.6
D69: =Referenz!$A$15*G69 -> 23.2 | E69: Stck. | F69: Schweisskuchen | G69: 0.08
D70: =Referenz!$A$15*G70 -> 58 | E70: Stck. | F70: Eier gekocht | G70: 0.2
C72: Brotzeit, Gurken, Paprika
D74: =Referenz!$A$15/1000*G74 -> 34.8 | E74: kg | F74: Obst gem. (Äpfel,Bananen,Birnen,Nektarinen usw.) | G74: 120 | H74: g
D75: =Referenz!$A$15/1000*G75 -> 11.6 | E75: kg | F75: Kochsalami | G75: 40 | H75: g
D76: =Referenz!$A$15*G76 -> 23.2 | E76: Stück | F76: Salatgurken | G76: 0.08 | H76: Stck.
D77: =Referenz!$A$15/1000*G77 -> 11.6 | E77: kg | F77: Paprikaschoten (gelb & rot) | G77: 40 | H77: g
D78: =Referenz!$A$15/1000*G78 -> 11.6 | E78: kg | F78: gelbe Rüben | G78: 40 | H78: g
D79: =Referenz!$A$15/1000*G79 -> 5.8 | E79: kg | F79: Kohlrabi | G79: 20 | H79: g
D80: =Referenz!$A$15/1000*G80 -> 34.8 | E80: kg | F80: Brot | G80: 120 | H80: g
B82: Mittag: | C82: Fränkische mit Kraut, Kartoffelpüree
D84: =Referenz!$A$15*G84 -> 435 | E84: Paar | F84: Fränkische Bratwurst | G84: 1.5 | H84: Paar
D85: =Referenz!$A$15*G85 -> 348 | E85: Port. | F85: Kartoffelbrei ( Pfanni ) | G85: 1.2 | H85: Portionen
D86: =Referenz!$A$15*G86/1000 -> 11.6 | E86: Liter | F86: Milch für Kartoffelbrei | G86: 40 | H86: ml
D87: =Referenz!$A$15*G87/1000 -> 31.03 | E87: Liter | F87: Milch+Wasser | G87: 107 | H87: ml
B89: Mittag: | C89: Putengeschnetzeltes "Asia Curry" mit Reis
D91: =Referenz!$A$15/1000*G91 -> 17.4 | E91: kg | F91: Putengeschnetzeltes | G91: 60 | H91: g
D92: =Referenz!$A$15*G92/1000 -> 5.8 | E92: kg | F92: Lauch | G92: 20 | H92: g
D93: =Referenz!$A$15*G93/1000 -> 5.8 | E93: kg | F93: gelbe Rüben | G93: 20 | H93: g
D94: =Referenz!$A$15*G94/1000 -> 5.8 | E94: kg | F94: Gemüse der Saison (Auberginen / Zucchini / Brokkoli) | G94: 20 | H94: g
D95: =Referenz!$A$15*G95/1000 -> 5.8 | E95: kg | F95: Paprikaschoten (gelb & rot) | G95: 20 | H95: g
F96: Annanas
D97: =Referenz!$A$15*G97/1000 -> 3.48 | E97: Liter | F97: Sojasauce 1/3 in die Sauce, 2/3 zum individuellen Würzen | G97: 12 | H97: ml
D98: =Referenz!$A$15*G98 -> 290 | E98: g | F98: Chinagewürz | G98: 1 | H98: g
D99: =Referenz!$A$15*G99/1000 -> 17.4 | E99: kg | F99: Kokosmilch | G99: 60 | H99: g
D100: =Referenz!$A$15*G100/1000 -> 8.7 | E100: kg | F100: Sojasprossen (gegart aus der Dose) | G100: 30 | H100: g
D101: =Referenz!$A$15*G101/1000 -> 5.8 | E101: kg | F101: Zwiebeln grob geschnitten | G101: 20 | H101: g
D102: =Referenz!$A$15*G102 -> 580 | E102: g | F102: Red Curry Paste Achtung: Erst ganz zum Schluss und nur 50% zum Gericht; den Rest mit etwas Wasser verrührt zur Eigen-Nachschärfung bereit stellen | G102: 2 | H102: g
D103: =Referenz!$A$15/1000*G103 -> 23.2 | E103: kg | F103: Basmatireis | G103: 80 | H103: g
D104: =Referenz!$A$15/1000*G104 -> 1.16 | E104: kg | F104: Gefro Helle Soße | G104: 4 | H104: g
B106: Mittag: | C106: Gyros-Geschnetzeltes, Krautsalat, Reis, Tzatziki | I106: 97 | J106: 10
I107: -1 | J107: 10
D108: =TEILNEHMER/1000*G108 -> 37.7 | E108: kg | F108: Schweinegeschnetzeltes | G108: 130 | H108: g | I108: 2 | J108: 10
D109: =TEILNEHMER/1000*G109 -> 23.2 | E109: kg | F109: Reis | G109: 80 | H109: g | I109: 16 | J109: 10
D110: =TEILNEHMER/1000*G110 -> 11.6 | E110: kg | F110: Quark 40% | G110: 40 | H110: g | I110: 16 | J110: 8 | K110: 10
D111: =TEILNEHMER/1000*G111 -> 5.8 | E111: kg | F111: Griechischer Joghurt | G111: 20 | H111: g | I111: 16 | J111: 8 | K111: 10
D112: =TEILNEHMER*G112 -> 14.5 | E112: Stück | F112: Salatgurken | G112: 0.05 | H112: Stck. | I112: 3 | J112: 8 | K112: 10
D113: =TEILNEHMER*G113/1000 -> 3.48 | E113: kg | F113: Tomaten | G113: 12 | H113: g | I113: 3 | J113: 8 | K113: 10
D114: =TEILNEHMER/1000*G114 -> 6.96 | E114: kg | F114: Weißkraut | G114: 24 | H114: g | I114: 3 | J114: 8 | K114: 10
B117: Mittag: | C117: Tortellini mit Schinken-Sahne-Soße, Salat | I117: 97 | J117: 12
I118: -1 | J118: 12
D119: =TEILNEHMER_2/1000*G119 -> 31.25 | E119: kg | F119: Tortellini | G119: 125 | H119: g | I119: 16 | J119: 12
...

Sheet Rezepte
B3: Wiener, Landjäger, Käse, Brezeln, Semmeln | H3: 96
D5: Paar | E5: Landjäger | F5: 0.5 | G5: Paar | H5: 2
D6: Paar | E6: Wiener | F6: 1.3 | G6: Paar | H6: 2
D7: kg | E7: Käse | F7: 50 | G7: g | H7: 6
D8: Stück | E8: Brezeln | F8: 1.3 | G8: Stück | H8: 1
D9: Stück | E9: Semmeln | F9: 2 | G9: Stück | H9: 1
B11: Wurst, Käse, Brot | H11: 97
D13: kg | E13: Wurst | F13: 70 | G13: g | H13: 2
D14: kg | E14: Käse | F14: 50 | G14: g | H14: 6
D15: kg | E15: Brot | F15: 100 | G15: g | H15: 1
B17: Spanferkel, Kartoffelsalat | H17: 98
D19: kg | E19: Spanferkelbraten | F19: 200 | G19: g | H19: 2
D20: kg | E20: Kartoffelsalat (Metzger) | F20: 200 | G20: g | H20: 2
B23: Standard | H23: 96
D25: Liter | E25: Kakao | F25: 0.2 | G25: Liter | H25: 4
D26: Liter | E26: Milch | F26: 0.1 | G26: Liter | H26: 4
D27: kg | E27: Müsli | F27: 25 | G27: g | H27: 19
D28: kg | E28: Obst | F28: 150 | G28: g | H28: 3
D29: kg | E29: Marmelade | F29: 20 | G29: g | H29: 16
D30: kg | E30: Wurst | F30: 20 | G30: g | H30: 2
D31: kg | E31: Brot | F31: 100 | G31: g | H31: 1
B33: Bratwurst, Bockwurst, Griechischer Salat, Bratkartoffel | H33: 97
D35: Stück | E35: Bratwurst | F35: 1.2 | G35: Stück | H35: 2
D36: Stück | E36: Bockwurst | F36: 1.2 | G36: Stück | H36: 2
D37: Stück | E37: Gurken | F37: 0.25 | G37: Stück | H37: 3
D38: kg | E38: Tomaten | F38: 0.2 | G38: Stück | H38: 3
D39: Kopf | E39: Eissalat | F39: 0.05 | G39: Kopf | H39: 3
D40: kg | E40: Paprika gemischt | F40: 50 | G40: g | H40: 3
D41: kg | E41: Schafskäse | F41: 20 | G41: g | H41: 5
D42: kg | E42: Kartoffel | F42: 250 | G42: g | H42: 9
B44: Nudelsuppe, Wurst, Käse, Brot | H44: 98
D46: kg | E46: Suppennudeln | F46: 38 | G46: g | H46: 17
D47: kg | E47: Suppengrün | F47: 2 | G47: g | H47: 16
D48: kg | E48: Käse | F48: 16 | G48: g | H48: 5
D49: kg | E49: Wurst | F49: 20 | G49: g | H49: 2
D50: kg | E50: Brot | F50: 80 | G50: g | H50: 1
B53: Standard | H53: 96
D55: Liter | E55: Kakao | F55: 0.2 | G55: Liter | H55: 4
D56: Liter | E56: Milch | F56: 0.1 | G56: Liter | H56: 4
D57: kg | E57: Müsli | F57: 25 | G57: g | H57: 19
D58: kg | E58: Obst | F58: 118 | G58: g | H58: 3
D59: kg | E59: Marmelade | F59: 20 | G59: g | H59: 16
D60: kg | E60: Wurst | F60: 18 | G60: g | H60: 2
D61: kg | E61: Brot | F61: 80 | G61: g | H61: 1
B63: Gulasch, Vollkorn-Nudeln, Reis, Tomatensalat | H63: 97
D65: kg | E65: Schweinefleisch | F65: 80 | G65: g | H65: 2
D66: kg | E66: Rindfleisch | F66: 30 | G66: g | H66: 2
D67: kg | E67: Vollkorn-Spätzle | F67: 70 | G67: g | H67: 17
D68: kg | E68: Tomaten | F68: 83 | G68: g | H68: 3
D69: kg | E69: Reis | F69: 40 | G69: g | H69: 16
B71: Wurst, Käse, Brot, Pfirsichquark | H71: 98
D73: kg | E73: Camembert | F73: 12 | G73: g | H73: 5
D74: kg | E74: Kalbsleberwurst | F74: 12 | G74: g | H74: 2
D75: kg | E75: Wurst | F75: 20 | G75: g | H75: 2
D76: kg | E76: Brot | F76: 66 | G76: g | H76: 1
D77: kg | E77: Quark (Topfen) | F77: 100 | G77: g | H77: 5
D78: Liter | E78: Milch | F78: 0.04 | G78: Liter | H78: 4
D79: Ds | E79: Pfirsich | F79: 0.036 | G79: Ds | H79: 16
B82: Standard, Semmeln | H82: 96
D84: Liter | E84: Kakao | F84: 0.16 | G84: Liter | H84: 4
D85: Liter | E85: Milch | F85: 0.08 | G85: Liter | H85: 4
D86: kg | E86: Müsli | F86: 25 | G86: g | H86: 19
D87: kg | E87: Obst | F87: 120 | G87: g | H87: 3
D88: kg | E88: Marmelade | F88: 20 | G88: g | H88: 16
D89: kg | E89: Wurst | F89: 15 | G89: g | H89: 2
D90: kg | E90: Brot | F90: 40 | G90: g | H90: 1
D91: Stück | E91: Semmeln | F91: 2 | G91: Stück | H91: 1
B93: Wurst, Käse, Brot, Gurken, Paprikaschoten | H93: 97
D95: kg | E95: Kochsalami | F95: 40 | G95: g | H95: 2
D96: Stück | E96: Gurken | F96: 0.1 | G96: Stück | H96: 3
D97: kg | E97: Paprikaschoten | F97: 40 | G97: g | H97: 3
D98: kg | E98: Brot | F98: 160 | G98: g | H98: 1
D99: kg | E99: Obst | F99: 80 | G99: g | H99: 3
B101: Leberkäs, Nudelsalat, Gurkensalat | H101: 98
D103: kg | E103: Leberkäs | F103: 200 | G103: g | H103: 2
D104: Stück | E104: Gurken | F104: 0.2 | G104: Stück | H104: 3
D105: kg | E105: Gabel - Spaghetti | F105: 60 | G105: g | H105: 17
D106: kg | E106: Tomaten | F106: 20 | G106: g | H106: 3
D107: Glas | E107: Essiggurken | F107: 0.008 | G107: Glas | H107: 16
D108: Ds | E108: Mais | F108: 0.004 | G108: Ds | H108: 16
D109: Ds | E109: Erbsen+Karotten | F109: 0.015 | G109: Ds | H109: 16
D110: l | E110: Remoulade | F110: 0.008 | G110: l | H110: 16
B113: Standard | H113: 96
D115: Liter | E115: Kakao | F115: 0.16 | G115: Liter | H115: 4
D116: Liter | E116: Milch | F116: 0.08 | G116: Liter | H116: 4
D117: kg | E117: Müsli | F117: 25 | G117: g | H117: 19
D118: kg | E118: Obst | F118: 120 | G118: g | H118: 3
D119: kg | E119: Marmelade | F119: 20 | G119: g | H119: 16
D120: kg | E120: Wurst | F120: 20 | G120: g | H120: 2
D121: kg | E121: Brot | F121: 80 | G121: g | H121: 1
B123: Maultaschen, Salat, Joghurt | H123: 97
D125: Stück | E125: Maultaschen | F125: 4 | G125: Stück | H125: 15
D126: Stück | E126: Eier | F126: 0.36 | G126: Stück | H126: 3
D127: Kopf | E127: Eissalat | F127: 0.18 | G127: Kopf | H127: 3
D128: kg | E128: Frucht-Joghurt in großen Eimern | F128: 116 | G128: g | H128: 5
B130: Tomatensuppe, Wurst, Käse, Brot, Essiggurken | H130: 98
D132: kg | E132: Brot | F132: 60 | G132: g | H132: 1
D133: kg | E133: Wurst | F133: 20 | G133: g | H133: 2
D134: Gläser | E134: Essiggurken | F134: 0.015 | G134: Gläser | H134: 16
D135: kg | E135: Tomatensuppe | F135: 20 | G135: g | H135: 17
...

Sheet zu erledigen
B1: Aufgabe | C1: Vorschlag von | D1: verantwortlich
B2: bei Kocher 3 den Brenner tiefer setzen | C2: Ronzo | D2: Ronzo
B3: 1,5 bar Gasschläuche verlängern | C3: Ronzo | D3: Ronzo
B4: Besteckkiste reparieren und überarbeiten | C4: RMJ | D4: RMJ
B5: Curver Box für Gemüsehobel max. 40x40cm h 35cm | C5: RMJ | D5: RMJ 05.06.2015 erledigt
B6: 2 große Kochlöffel anschaffen
B7: Curverwanne 60 Liter (75x53cm) 4x anschaffen | C7: Geli
B8: große Metalllöffel anschaffen 4x
B9: Zeltmülleimer besorgen und beschriften | C9: Ronzo | D9: Katha Müller / Flo Osterrieder
B10: Häubchen nähen | C10: Susi | D10: Ursel Müller
B11: Gaskühlschrank kaufen | C11: Geli | D11: RMJ
B12: Steca reparieren/ersetzen
B13: PE Weithalsflaschen für Gewürze | C13: Geli
B14: Einzelkabinen Brillenbretter erneuern | C14: Ronzo
B15: Latrinenbeleuchtung umbauen | C15: Ronzo
B16: neue Brotschneidunterlage | C16: RMJ
B17: Kühlbox fürs KIZ bauen | C17: Ronzo | D17: Ronzo
B18: dicke Unterlegbretter für die Wechselbrücken zusägen | C18: Ronzo
B19: 2 V-Hobel besorgen | C19: Geli | D19: Geli
B20: Quickchef erneuern | C20: Ronzo
B21: Gewinde der Kochbesteckstangen nachschneiden | C21: RMJ
B22: Halterung für Handtuchspender verbessern | C22: RMJ
B23: Unterlegholz-Sortiment für die Küche vorm Lager anlegen | C23: Ronzo
B24: USB-Ladestation überarbeiten | C24: RMJ | D24: RMJ

Sheet Ideen fürs nächste Jahr
A2: Vegi-Aufstriche bei BWK
A3: 2 Vegi-Gerichte
A4: abends Pellkartoffeln mit Käse mit Bratheringsklopüsen
A5: Schupfnudeln mit Kraut
A6: Kassler mit Kraut und Salzkartoffeln
A7: Schaschlikpfsanne mit Reis
A8: Chili con Carne
A9: Hirtenmakkaroni
A10: Linsen mit Wiener
A11: Spinatspatzen mit Parmesan
A12: Farrmersalat
A13: Frischkäsedip / Bruscetta-Aufstrich
... A15: Kartoffel-Karotten-Gemüse

Sheet Speiseplan (Entwurf)
A1: Datum | B1: Frühstück | C1: Mittag | D1: Abend
A2: Samstag | B2: Aufbaubrotzeit | C2: Aufbaubrotzeit | D2: Kässpatzen und Steaks Salat
A3: =Referenz!D11 -> 42581
A5: Sonntag | B5: Tägliches | C5: Leberkässemmel, Weißwurstsenf, Gurken, Käse | D5: Schnitzel / Bratlinge, Kartoffelsalat, Gurkensalat
A6: =Referenz!D11+1 -> 42582 | B6: Standardfrühstück
A8: Montag | B8: Tee - Kakao - Milch - Kaffee | C8: Spagetti mit Tomatensoße und Salat | D8: Brotzeit Vanille-Pudding
A9: =Referenz!D11+2 -> 42583 | B9: Müsli - Obst - Wurst - Käse
B10: Brot - Butter - Marmelade
A11: Dienstag | B11: Semmeln | C11: Schaschlikpfanne, Reis und Salat | D11: Brotzeit, Gemüsesticks
A12: =Referenz!D11+3 -> 42584
A14: Mittwoch | C14: Wanderbrotzeit | D14: Fleischküchle, Kartoffel- und Bohnensalat, Schoko-Pudding
A15: =Referenz!D11+4 -> 42585
A17: Donnerstag | C17: Brätknödelsuppe, Semmelschmarrn, Apfelmus | D17: Wurstsalat, Brot, Aufstrich
A18: =Referenz!D11+5 -> 42586 | B18: Hefezopf
A20: Freitag | C20: Schweinebraten, Knödel, Blaukraut | D20: Brotzeit, Frischkäseaufstrich
A21: =Referenz!D11+6 -> 42587
A23: Samstag | C23: Hirtenmakkaroni, Tomatensalat | D23: Griechischer Salat mit Pitabrot, Tzatziki, Falaffel
A24: =Referenz!D11+7 -> 42588 | B24: Nutella, Rührei
A26: Elternsonntag | C26: Deftiger Eintopf (1 kleiner Topf ohne Fleisch mit Kartoffeln), Semmel, Pfirsichquark | D26: Brotzeit, Gemüsesticks
A27: =Referenz!D11+8 -> 42589
A29: Montag | C29: Gyros / Pulled Pork im Semmel, Krautsalat | D29: Brotzeit, Nudelsalat
A30: =Referenz!D11+9 -> 42590
A32: Dienstag | C32: Wanderbrotzeit | D32: Schnitzel Grillkäse, Kartoffelsalat, Gurkensalat
A33: =Referenz!D11+10 -> 42591
A35: Mittwoch | C35: Tortellini ala Chef, Eissalat | D35: Brotzeit, Milchreis
A36: =Referenz!D11+11 -> 42592 | B36: Semmeln
A38: Donnerstag | C38: Wiener im Semmel mit Zugabe | D38: Schwenkbraten, Bratkartoffel, Tomatenslat
A39: =Referenz!D11+12 -> 42593
A42: TEE und FRUCHTGETRÄNKE stehen jeden Tag in ausreichender Menge zur Verfügung !
